BEGIN:VCALENDAR
VERSION:2.0
PRODID:icalendar-ruby
CALSCALE:GREGORIAN
METHOD:PUBLISH
BEGIN:VEVENT
DTSTAMP:20260422T152908Z
UID:127-1477556@cowboychurchtexas.org
DTSTART:20260424T000000Z
DTEND:20260424T010000Z
CLASS:PUBLIC
CREATED:20260420T150446
DESCRIPTION:A signed and notarized waiver is required for participation.  
 If you are 18 years of age or under\, a parent must be present to sign the
  waiver.  Waivers are valid from January 1 through December 31 of each ye
 ar.
LAST-MODIFIED:20260420T150446
LOCATION:Aubrey Daniel Memorial Arena\, 902 NE Loop 7\, Athens\, Texas 7575
 2
SUMMARY:Barrel Racing Practice
URL;VALUE=URI:https://www.cowboychurchtexas.org/events/barrel-racing-practi
 ce--127/2026-04-23
ATTACH;FILENAME=Slide1.jpeg;FMTTYPE=image/jpeg:https://dq5pwpg1q8ru0.cloudf
 ront.net/2026/02/21/20/42/25/e7580c1d-86bd-488e-a0b3-e177b808a2bb/Slide1.j
 peg
ATTACH;FILENAME=Release Form (Aug 2022).pdf;FMTTYPE=application/pdf:https:/
 /dq5pwpg1q8ru0.cloudfront.net/2026/02/21/20/42/24/dc02bf56-6a6a-4fcd-9547-
 b985ce95abef/Release%20Form%20(Aug%202022).pdf
END:VEVENT
END:VCALENDAR
