BEGIN:VCALENDAR
VERSION:2.0
PRODID:icalendar-ruby
CALSCALE:GREGORIAN
METHOD:PUBLISH
BEGIN:VEVENT
DTSTAMP:20260426T021041Z
UID:78-1504934@cowboychurchtexas.org
DTSTART:20261022T143000Z
DTEND:20261022T160000Z
CLASS:PUBLIC
CREATED:20260425T201749
DESCRIPTION:
LAST-MODIFIED:20260425T201749
LOCATION:902 NE Loop 7\, Athens\, Texas 75752\; West Room
SUMMARY:Agape Knitters
URL;VALUE=URI:https://www.cowboychurchtexas.org/events/agape-knitters/2026-
 10-22
ATTACH;FILENAME=Knit-and-Heart.jpg;FMTTYPE=image/jpeg:https://dq5pwpg1q8ru0
 .cloudfront.net/2025/03/03/22/26/52/8ccb7fee-14ad-4082-9472-44da6589fc55/K
 nit-and-Heart.jpg
END:VEVENT
END:VCALENDAR
