BEGIN:VCALENDAR
VERSION:2.0
PRODID:icalendar-ruby
CALSCALE:GREGORIAN
METHOD:PUBLISH
BEGIN:VEVENT
DTSTAMP:20260425T231831Z
UID:78-1504074@cowboychurchtexas.org
DTSTART:20261008T143000Z
DTEND:20261008T160000Z
CLASS:PUBLIC
CREATED:20260425T173530
DESCRIPTION:
LAST-MODIFIED:20260425T173530
LOCATION:902 NE Loop 7\, Athens\, Texas 75752\; West Room
SUMMARY:Agape Knitters
URL;VALUE=URI:https://www.cowboychurchtexas.org/events/agape-knitters/2026-
 10-08
ATTACH;FILENAME=Knit-and-Heart.jpg;FMTTYPE=image/jpeg:https://dq5pwpg1q8ru0
 .cloudfront.net/2025/03/03/22/26/52/8ccb7fee-14ad-4082-9472-44da6589fc55/K
 nit-and-Heart.jpg
END:VEVENT
END:VCALENDAR
